Package: CGHcall Version: 2.73.0 Command: /home/biocbuild/bbs-3.23-bioc/R/bin/R CMD INSTALL CGHcall StartedAt: 2025-11-07 15:14:56 -0500 (Fri, 07 Nov 2025) EndedAt: 2025-11-07 15:15:01 -0500 (Fri, 07 Nov 2025) EllapsedTime: 4.6 seconds RetCode: 0 Status: OK