Package: CGHcall Version: 2.73.0 Command: /home/biocbuild/bbs-3.23-bioc/R/bin/R CMD build --keep-empty-dirs --no-resave-data CGHcall StartedAt: 2025-11-07 16:43:51 -0500 (Fri, 07 Nov 2025) EndedAt: 2025-11-07 16:44:10 -0500 (Fri, 07 Nov 2025) EllapsedTime: 19.0 seconds RetCode: 0 Status: OK PackageFile: CGHcall_2.73.0.tar.gz PackageFileSize: 451.6 KiB