Package: CGHcall Version: 2.71.0 Command: /Library/Frameworks/R.framework/Resources/bin/R CMD INSTALL CGHcall StartedAt: 2025-10-01 15:16:23 -0400 (Wed, 01 Oct 2025) EndedAt: 2025-10-01 15:16:37 -0400 (Wed, 01 Oct 2025) EllapsedTime: 14.0 seconds RetCode: 0 Status: OK