Package: CGHcall Version: 2.71.0 Command: /Library/Frameworks/R.framework/Resources/bin/R CMD build --keep-empty-dirs --no-resave-data CGHcall StartedAt: 2025-10-01 16:20:48 -0400 (Wed, 01 Oct 2025) EndedAt: 2025-10-01 16:21:14 -0400 (Wed, 01 Oct 2025) EllapsedTime: 26.2 seconds RetCode: 0 Status: OK PackageFile: CGHcall_2.71.0.tar.gz PackageFileSize: 451.6 KiB