Package: CGHbase Version: 1.69.0 Command: /home/biocbuild/R/R/bin/R CMD INSTALL CGHbase StartedAt: 2025-09-29 20:45:59 -0000 (Mon, 29 Sep 2025) EndedAt: 2025-09-29 20:46:09 -0000 (Mon, 29 Sep 2025) EllapsedTime: 10.6 seconds RetCode: 0 Status: OK