Package: CGHbase Version: 1.69.0 Command: F:\biocbuild\bbs-3.22-bioc\R\bin\R.exe CMD INSTALL CGHbase StartedAt: 2025-08-14 15:42:56 -0400 (Thu, 14 Aug 2025) EndedAt: 2025-08-14 15:43:35 -0400 (Thu, 14 Aug 2025) EllapsedTime: 39.7 seconds RetCode: 0 Status: OK