Package: CGHbase Version: 1.69.0 Command: chmod a+r CGHbase -R && F:\biocbuild\bbs-3.22-bioc\R\bin\R.exe CMD build --keep-empty-dirs --no-resave-data CGHbase StartedAt: 2025-08-14 19:03:38 -0400 (Thu, 14 Aug 2025) EndedAt: 2025-08-14 19:03:42 -0400 (Thu, 14 Aug 2025) EllapsedTime: 4.0 seconds RetCode: 0 Status: OK PackageFile: CGHbase_1.69.0.tar.gz PackageFileSize: 847.9 KiB