Package: CGHbase Version: 1.69.0 Command: rm -rf CGHbase.buildbin-libdir && mkdir CGHbase.buildbin-libdir && F:\biocbuild\bbs-3.22-bioc\R\bin\R.exe CMD INSTALL --build --library=CGHbase.buildbin-libdir CGHbase_1.69.0.tar.gz StartedAt: 2025-08-15 09:56:07 -0400 (Fri, 15 Aug 2025) EndedAt: 2025-08-15 09:56:39 -0400 (Fri, 15 Aug 2025) EllapsedTime: 31.6 seconds RetCode: 0 Status: OK PackageFile: CGHbase_1.69.0.zip PackageFileSize: 1.059 MiB