Package: CGHbase Version: 1.71.0 Command: /home/biocbuild/bbs-3.23-bioc/R/bin/R CMD check --install=check:CGHbase.install-out.txt --library=/home/biocbuild/bbs-3.23-bioc/R/site-library --timings CGHbase_1.71.0.tar.gz StartedAt: 2025-10-31 21:54:41 -0400 (Fri, 31 Oct 2025) EndedAt: 2025-10-31 21:55:16 -0400 (Fri, 31 Oct 2025) EllapsedTime: 35.0 seconds RetCode: 0 Status: OK CheckDir: CGHbase.Rcheck Warnings: 0