Back to Build/check report for BioC 3.23:   simplified   long
AB[C]DEFGHIJKLMNOPQRSTUVWXYZ

This page was generated on 2025-10-31 08:34 -0400 (Fri, 31 Oct 2025).

HostnameOSArch (*)R versionInstalled pkgs
nebbiolo1Linux (Ubuntu 24.04.3 LTS)x86_64R Under development (unstable) (2025-10-20 r88955) -- "Unsuffered Consequences" 4428
Click on any hostname to see more info about the system (e.g. compilers)      (*) as reported by 'uname -p', except on Windows and Mac OS X

All results for package CGHbase


To the developers/maintainers of the CGHbase package:
- Allow up to 24 hours (and sometimes 48 hours) for your latest push to git@git.bioconductor.org:packages/CGHbase.git to reflect on this report. See Troubleshooting Build Report for more information.
- Use the following Renviron settings to reproduce errors and warnings.
- If 'R CMD check' started to fail recently on the Linux builder(s) over a missing dependency, add the missing dependency to 'Suggests:' in your DESCRIPTION file. See Renviron.bioc for more information.

raw results

Package 323/2321HostnameOS / ArchINSTALLBUILDCHECKBUILD BIN
CGHbase 1.71.0  (landing page)
Mark van de Wiel
Snapshot Date: 2025-10-30 13:40 -0400 (Thu, 30 Oct 2025)
git_url: https://git.bioconductor.org/packages/CGHbase
git_branch: devel
git_last_commit: 709264e
git_last_commit_date: 2025-10-29 10:00:38 -0400 (Wed, 29 Oct 2025)
nebbiolo1Linux (Ubuntu 24.04.3 LTS) / x86_64  OK    OK    OK  YES



Results for Bioconductor software packages that depend directly on package CGHbase

QUICK STATSOS / ArchINSTALLBUILDCHECKBUILD BIN
nebbiolo1Linux (Ubuntu 24.04.3 LTS) / x86_64
005
005
0014
Package 1/5HostnameOS / ArchINSTALLBUILDCHECKBUILD BIN
CGHcall 2.73.0  (landing page)
Mark van de Wiel
git_last_commit: 0cacd10
git_last_commit_date: 2025-10-29 09:59:47 -0400
nebbiolo1Linux (Ubuntu 24.04.3 LTS) / x86_64  OK    OK    WARNINGS  YES
Package 2/5HostnameOS / ArchINSTALLBUILDCHECKBUILD BIN
CGHnormaliter 1.65.0  (landing page)
Bart P.P. van Houte
git_last_commit: 1dc052d
git_last_commit_date: 2025-10-29 10:03:43 -0400
nebbiolo1Linux (Ubuntu 24.04.3 LTS) / x86_64  OK    OK    OK  YES
Package 3/5HostnameOS / ArchINSTALLBUILDCHECKBUILD BIN
CGHregions 1.69.0  (landing page)
Sjoerd Vosse
git_last_commit: 84741eb
git_last_commit_date: 2025-10-29 10:00:42 -0400
nebbiolo1Linux (Ubuntu 24.04.3 LTS) / x86_64  OK    OK    OK  YES
Package 4/5HostnameOS / ArchINSTALLBUILDCHECKBUILD BIN
GeneBreak 1.41.0  (landing page)
Evert van den Broek
git_last_commit: 127da45
git_last_commit_date: 2025-10-29 10:28:19 -0400
nebbiolo1Linux (Ubuntu 24.04.3 LTS) / x86_64  OK    OK    OK  NO, package depends on 'QDNAseq' which is not available
Package 5/5HostnameOS / ArchINSTALLBUILDCHECKBUILD BIN
QDNAseq 1.47.0  (landing page)
Daoud Sie
git_last_commit: 2bb3c9e
git_last_commit_date: 2025-10-29 10:18:34 -0400
nebbiolo1Linux (Ubuntu 24.04.3 LTS) / x86_64  OK    OK    OK  NO, package depends on 'Seqinfo' which is not available