Package: CGEN Version: 3.45.0 Command: /Library/Frameworks/R.framework/Resources/bin/R CMD INSTALL CGEN StartedAt: 2025-10-12 15:08:16 -0400 (Sun, 12 Oct 2025) EndedAt: 2025-10-12 15:08:53 -0400 (Sun, 12 Oct 2025) EllapsedTime: 36.3 seconds RetCode: 0 Status: OK