Package: CGEN Version: 3.45.0 Command: /Library/Frameworks/R.framework/Resources/bin/R CMD build --keep-empty-dirs --no-resave-data CGEN StartedAt: 2025-10-12 16:23:21 -0400 (Sun, 12 Oct 2025) EndedAt: 2025-10-12 16:24:19 -0400 (Sun, 12 Oct 2025) EllapsedTime: 57.2 seconds RetCode: 0 Status: OK PackageFile: CGEN_3.45.0.tar.gz PackageFileSize: 980.2 KiB