Package: CGEN Version: 3.45.0 Command: rm -rf CGEN.buildbin-libdir && mkdir CGEN.buildbin-libdir && /Users/biocbuild/BBS/utils/build-universal.sh CGEN_3.45.0.tar.gz /Library/Frameworks/R.framework/Resources/bin/R CGEN.buildbin-libdir StartedAt: 2025-10-13 02:24:40 -0400 (Mon, 13 Oct 2025) EndedAt: 2025-10-13 02:25:17 -0400 (Mon, 13 Oct 2025) EllapsedTime: 37.0 seconds RetCode: 0 Status: OK PackageFile: CGEN_3.45.0.tgz PackageFileSize: 1.929 MiB