Package: CFAssay Version: 1.45.0 Command: /home/biocbuild/bbs-3.23-bioc/R/bin/R CMD INSTALL CFAssay StartedAt: 2025-11-07 15:02:26 -0500 (Fri, 07 Nov 2025) EndedAt: 2025-11-07 15:02:37 -0500 (Fri, 07 Nov 2025) EllapsedTime: 11.3 seconds RetCode: 0 Status: OK