Package: CFAssay Version: 1.43.0 Command: /Library/Frameworks/R.framework/Resources/bin/R CMD build --keep-empty-dirs --no-resave-data CFAssay StartedAt: 2025-10-05 16:21:51 -0400 (Sun, 05 Oct 2025) EndedAt: 2025-10-05 16:22:03 -0400 (Sun, 05 Oct 2025) EllapsedTime: 12.6 seconds RetCode: 0 Status: OK PackageFile: CFAssay_1.43.0.tar.gz PackageFileSize: 321.7 KiB