Package: CEMiTool Version: 1.33.1 Command: /home/biocbuild/R/R/bin/R CMD INSTALL CEMiTool StartedAt: 2025-10-09 21:54:30 -0000 (Thu, 09 Oct 2025) EndedAt: 2025-10-09 21:55:07 -0000 (Thu, 09 Oct 2025) EllapsedTime: 36.6 seconds RetCode: 0 Status: OK