Package: CEMiTool Version: 1.33.1 Command: /home/biocbuild/R/R/bin/R CMD build --keep-empty-dirs --no-resave-data CEMiTool StartedAt: 2025-10-09 23:24:20 -0000 (Thu, 09 Oct 2025) EndedAt: 2025-10-09 23:25:44 -0000 (Thu, 09 Oct 2025) EllapsedTime: 84.0 seconds RetCode: 1 Status: ERROR PackageFile: None PackageFileSize: NA