Package: CEMiTool Version: 1.35.0 Command: /home/biocbuild/bbs-3.23-bioc/R/bin/R CMD INSTALL CEMiTool StartedAt: 2025-11-07 15:47:04 -0500 (Fri, 07 Nov 2025) EndedAt: 2025-11-07 15:47:31 -0500 (Fri, 07 Nov 2025) EllapsedTime: 27.7 seconds RetCode: 0 Status: OK