Package: CEMiTool Version: 1.35.0 Command: /home/biocbuild/bbs-3.23-bioc/R/bin/R CMD check --install=check:CEMiTool.install-out.txt --library=/home/biocbuild/bbs-3.23-bioc/R/site-library --timings CEMiTool_1.35.0.tar.gz StartedAt: 2025-11-14 21:52:57 -0500 (Fri, 14 Nov 2025) EndedAt: 2025-11-14 21:58:36 -0500 (Fri, 14 Nov 2025) EllapsedTime: 338.6 seconds RetCode: 0 Status: OK CheckDir: CEMiTool.Rcheck Warnings: 0