Package: CEMiTool Version: 1.35.0 Command: /home/biocbuild/bbs-3.23-bioc/R/bin/R CMD build --keep-empty-dirs --no-resave-data CEMiTool StartedAt: 2025-11-07 16:41:30 -0500 (Fri, 07 Nov 2025) EndedAt: 2025-11-07 16:43:09 -0500 (Fri, 07 Nov 2025) EllapsedTime: 99.1 seconds RetCode: 0 Status: OK PackageFile: CEMiTool_1.35.0.tar.gz PackageFileSize: 5.493 MiB