Package: CDI Version: 1.7.0 Command: rm -rf CDI.buildbin-libdir && mkdir CDI.buildbin-libdir && /Users/biocbuild/BBS/utils/build-universal.sh CDI_1.7.0.tar.gz /Library/Frameworks/R.framework/Resources/bin/R CDI.buildbin-libdir StartedAt: 2025-10-18 02:48:56 -0400 (Sat, 18 Oct 2025) EndedAt: 2025-10-18 02:49:51 -0400 (Sat, 18 Oct 2025) EllapsedTime: 55.4 seconds RetCode: 0 Status: OK PackageFile: CDI_1.7.0.tgz PackageFileSize: 2.116 MiB