Package: CDI Version: 1.7.0 Command: rm -rf CDI.buildbin-libdir && mkdir CDI.buildbin-libdir && /Users/biocbuild/BBS/utils/build-universal.sh CDI_1.7.0.tar.gz /Library/Frameworks/R.framework/Resources/bin/R CDI.buildbin-libdir StartedAt: 2025-10-06 22:37:57 -0400 (Mon, 06 Oct 2025) EndedAt: 2025-10-06 22:38:12 -0400 (Mon, 06 Oct 2025) EllapsedTime: 15.3 seconds RetCode: 0 Status: OK PackageFile: CDI_1.7.0.tgz PackageFileSize: 2.117 MiB