Package: CCPlotR Version: 1.9.0 Command: /home/biocbuild/bbs-3.23-bioc/R/bin/R CMD check --install=check:CCPlotR.install-out.txt --library=/home/biocbuild/bbs-3.23-bioc/R/site-library --timings CCPlotR_1.9.0.tar.gz StartedAt: 2025-11-20 21:50:51 -0500 (Thu, 20 Nov 2025) EndedAt: 2025-11-20 21:52:48 -0500 (Thu, 20 Nov 2025) EllapsedTime: 117.2 seconds RetCode: 0 Status: OK CheckDir: CCPlotR.Rcheck Warnings: 0