Package: CCPlotR Version: 1.9.0 Command: /home/biocbuild/bbs-3.23-bioc/R/bin/R CMD build --keep-empty-dirs --no-resave-data CCPlotR StartedAt: 2025-11-20 16:39:12 -0500 (Thu, 20 Nov 2025) EndedAt: 2025-11-20 16:39:48 -0500 (Thu, 20 Nov 2025) EllapsedTime: 36.0 seconds RetCode: 0 Status: OK PackageFile: CCPlotR_1.9.0.tar.gz PackageFileSize: 4.689 MiB