Package: CCPROMISE Version: 1.37.0 Command: /home/biocbuild/bbs-3.23-bioc/R/bin/R CMD build --keep-empty-dirs --no-resave-data CCPROMISE StartedAt: 2025-11-20 16:39:20 -0500 (Thu, 20 Nov 2025) EndedAt: 2025-11-20 16:39:57 -0500 (Thu, 20 Nov 2025) EllapsedTime: 37.0 seconds RetCode: 0 Status: OK PackageFile: CCPROMISE_1.37.0.tar.gz PackageFileSize: 1.03 MiB