Package: CCAFE Version: 1.1.0 Command: /home/biocbuild/R/R/bin/R CMD build --keep-empty-dirs --no-resave-data CCAFE StartedAt: 2025-10-20 22:30:30 -0000 (Mon, 20 Oct 2025) EndedAt: 2025-10-20 22:32:26 -0000 (Mon, 20 Oct 2025) EllapsedTime: 115.0 seconds RetCode: 0 Status: OK PackageFile: CCAFE_1.1.0.tar.gz PackageFileSize: 5.405 MiB