Package: CCAFE Version: 1.1.0 Command: /home/biocbuild/bbs-3.22-bioc/R/bin/R CMD check --install=check:CCAFE.install-out.txt --library=/home/biocbuild/bbs-3.22-bioc/R/site-library --timings CCAFE_1.1.0.tar.gz StartedAt: 2025-10-06 21:57:21 -0400 (Mon, 06 Oct 2025) EndedAt: 2025-10-06 22:01:17 -0400 (Mon, 06 Oct 2025) EllapsedTime: 236.4 seconds RetCode: 0 Status: OK CheckDir: CCAFE.Rcheck Warnings: 0