Package: CCAFE Version: 1.3.0 Command: /home/biocbuild/bbs-3.23-bioc/R/bin/R CMD build --keep-empty-dirs --no-resave-data CCAFE StartedAt: 2025-11-18 17:31:08 -0500 (Tue, 18 Nov 2025) EndedAt: 2025-11-18 17:32:23 -0500 (Tue, 18 Nov 2025) EllapsedTime: 75.1 seconds RetCode: 0 Status: OK PackageFile: CCAFE_1.3.0.tar.gz PackageFileSize: 5.68 MiB