Package: CBNplot Version: 1.11.0 Command: /home/biocbuild/bbs-3.23-bioc/R/bin/R CMD INSTALL CBNplot StartedAt: 2025-11-04 15:51:42 -0500 (Tue, 04 Nov 2025) EndedAt: 2025-11-04 15:52:13 -0500 (Tue, 04 Nov 2025) EllapsedTime: 30.3 seconds RetCode: 0 Status: OK