Package: CBNplot Version: 1.11.0 Command: /home/biocbuild/bbs-3.23-bioc/R/bin/R CMD check --install=check:CBNplot.install-out.txt --library=/home/biocbuild/bbs-3.23-bioc/R/site-library --timings CBNplot_1.11.0.tar.gz StartedAt: 2025-11-04 21:37:11 -0500 (Tue, 04 Nov 2025) EndedAt: 2025-11-04 21:43:28 -0500 (Tue, 04 Nov 2025) EllapsedTime: 376.4 seconds RetCode: 0 Status: OK CheckDir: CBNplot.Rcheck Warnings: 0