Package: CBNplot Version: 1.11.0 Command: /home/biocbuild/bbs-3.23-bioc/R/bin/R CMD build --keep-empty-dirs --no-resave-data CBNplot StartedAt: 2025-11-04 16:36:33 -0500 (Tue, 04 Nov 2025) EndedAt: 2025-11-04 16:37:37 -0500 (Tue, 04 Nov 2025) EllapsedTime: 64.1 seconds RetCode: 0 Status: OK PackageFile: CBNplot_1.11.0.tar.gz PackageFileSize: 1.002 MiB