Package: CBN2Path Version: 1.1.4 Command: /home/biocbuild/bbs-3.23-bioc/R/bin/R CMD INSTALL CBN2Path StartedAt: 2025-11-20 15:27:01 -0500 (Thu, 20 Nov 2025) EndedAt: 2025-11-20 15:27:40 -0500 (Thu, 20 Nov 2025) EllapsedTime: 39.3 seconds RetCode: 0 Status: OK