Package: CBN2Path Version: 1.1.4 Command: /home/biocbuild/bbs-3.23-bioc/R/bin/R CMD check --install=check:CBN2Path.install-out.txt --library=/home/biocbuild/bbs-3.23-bioc/R/site-library --timings CBN2Path_1.1.4.tar.gz StartedAt: 2025-11-25 21:47:10 -0500 (Tue, 25 Nov 2025) EndedAt: 2025-11-25 22:06:04 -0500 (Tue, 25 Nov 2025) EllapsedTime: 1133.5 seconds RetCode: 0 Status: OK CheckDir: CBN2Path.Rcheck Warnings: 0