Package: CBN2Path Version: 1.1.4 Command: /home/biocbuild/bbs-3.23-bioc/R/bin/R CMD build --keep-empty-dirs --no-resave-data CBN2Path StartedAt: 2025-11-20 16:38:22 -0500 (Thu, 20 Nov 2025) EndedAt: 2025-11-20 16:48:37 -0500 (Thu, 20 Nov 2025) EllapsedTime: 614.5 seconds RetCode: 0 Status: OK PackageFile: CBN2Path_1.1.4.tar.gz PackageFileSize: 2.276 MiB