Package: CBN2Path Version: 1.1.4 Command: /Library/Frameworks/R.framework/Resources/bin/R CMD INSTALL CBN2Path StartedAt: 2025-11-20 15:29:37 -0500 (Thu, 20 Nov 2025) EndedAt: 2025-11-20 15:30:40 -0500 (Thu, 20 Nov 2025) EllapsedTime: 62.9 seconds RetCode: 0 Status: OK