Package: CBN2Path Version: 1.1.4 Command: /Library/Frameworks/R.framework/Resources/bin/R CMD build --keep-empty-dirs --no-resave-data CBN2Path StartedAt: 2025-11-20 16:22:38 -0500 (Thu, 20 Nov 2025) EndedAt: 2025-11-20 16:32:46 -0500 (Thu, 20 Nov 2025) EllapsedTime: 608.1 seconds RetCode: 0 Status: OK PackageFile: CBN2Path_1.1.4.tar.gz PackageFileSize: 2.461 MiB