Package: CBN2Path Version: 1.1.4 Command: rm -rf CBN2Path.buildbin-libdir && mkdir CBN2Path.buildbin-libdir && /Users/biocbuild/BBS/utils/build-universal.sh CBN2Path_1.1.4.tar.gz /Library/Frameworks/R.framework/Resources/bin/R CBN2Path.buildbin-libdir StartedAt: 2025-11-21 01:25:05 -0500 (Fri, 21 Nov 2025) EndedAt: 2025-11-21 01:26:16 -0500 (Fri, 21 Nov 2025) EllapsedTime: 70.1 seconds RetCode: 0 Status: OK PackageFile: CBN2Path_1.1.4.tgz PackageFileSize: 2.674 MiB