Package: CBN2Path Version: 1.1.4 Command: /Library/Frameworks/R.framework/Resources/bin/R CMD check --install=check:CBN2Path.install-out.txt --library=/Library/Frameworks/R.framework/Resources/library --no-vignettes --timings CBN2Path_1.1.4.tar.gz StartedAt: 2025-11-21 18:52:30 -0500 (Fri, 21 Nov 2025) EndedAt: 2025-11-21 18:56:34 -0500 (Fri, 21 Nov 2025) EllapsedTime: 244.0 seconds RetCode: 0 Status: WARNINGS CheckDir: CBN2Path.Rcheck Warnings: 1