Package: CBN2Path Version: 1.1.2 Maintainer: William Choi-Kim MaintainerEmail: william at williamck.com git_url: https://git.bioconductor.org/packages/CBN2Path git_branch: devel git_last_commit: 6c77e1c git_last_commit_date: 2025-10-29 21:16:43 -0400 (Wed, 29 Oct 2025)