Package: CATALYST Version: 1.33.1 Command: /home/biocbuild/R/R/bin/R CMD INSTALL CATALYST StartedAt: 2025-10-16 22:21:48 -0000 (Thu, 16 Oct 2025) EndedAt: 2025-10-16 22:22:40 -0000 (Thu, 16 Oct 2025) EllapsedTime: 51.9 seconds RetCode: 0 Status: OK