Package: CATALYST Version: 1.33.1 Command: /home/biocbuild/R/R/bin/R CMD build --keep-empty-dirs --no-resave-data CATALYST StartedAt: 2025-10-16 23:46:47 -0000 (Thu, 16 Oct 2025) EndedAt: 2025-10-16 23:51:39 -0000 (Thu, 16 Oct 2025) EllapsedTime: 292.1 seconds RetCode: 0 Status: OK PackageFile: CATALYST_1.33.1.tar.gz PackageFileSize: 7.134 MiB