Package: CATALYST Version: 1.33.1 Command: chmod a+r CATALYST -R && F:\biocbuild\bbs-3.22-bioc\R\bin\R.exe CMD build --keep-empty-dirs --no-resave-data CATALYST StartedAt: 2025-08-14 18:56:10 -0400 (Thu, 14 Aug 2025) EndedAt: 2025-08-14 19:05:36 -0400 (Thu, 14 Aug 2025) EllapsedTime: 566.8 seconds RetCode: 0 Status: OK PackageFile: CATALYST_1.33.1.tar.gz PackageFileSize: 6.752 MiB