Package: CATALYST Version: 1.33.1 Command: rm -rf CATALYST.buildbin-libdir && mkdir CATALYST.buildbin-libdir && F:\biocbuild\bbs-3.22-bioc\R\bin\R.exe CMD INSTALL --build --library=CATALYST.buildbin-libdir CATALYST_1.33.1.tar.gz StartedAt: 2025-08-15 09:54:04 -0400 (Fri, 15 Aug 2025) EndedAt: 2025-08-15 09:55:20 -0400 (Fri, 15 Aug 2025) EllapsedTime: 76.1 seconds RetCode: 0 Status: OK PackageFile: CATALYST_1.33.1.zip PackageFileSize: 7.46 MiB