Package: CATALYST Version: 1.33.1 Command: /home/biocbuild/bbs-3.22-bioc/R/bin/R CMD check --install=check:CATALYST.install-out.txt --library=/home/biocbuild/bbs-3.22-bioc/R/site-library --timings CATALYST_1.33.1.tar.gz StartedAt: 2025-10-13 22:00:41 -0400 (Mon, 13 Oct 2025) EndedAt: 2025-10-13 22:18:47 -0400 (Mon, 13 Oct 2025) EllapsedTime: 1085.6 seconds RetCode: 0 Status: OK CheckDir: CATALYST.Rcheck Warnings: 0