Package: CATALYST Version: 1.35.0 Command: /home/biocbuild/bbs-3.23-bioc/R/bin/R CMD INSTALL CATALYST StartedAt: 2025-11-06 15:53:09 -0500 (Thu, 06 Nov 2025) EndedAt: 2025-11-06 15:53:47 -0500 (Thu, 06 Nov 2025) EllapsedTime: 37.7 seconds RetCode: 0 Status: OK