Package: CATALYST Version: 1.35.0 Command: /home/biocbuild/bbs-3.23-bioc/R/bin/R CMD check --install=check:CATALYST.install-out.txt --library=/home/biocbuild/bbs-3.23-bioc/R/site-library --timings CATALYST_1.35.0.tar.gz StartedAt: 2025-11-18 22:35:31 -0500 (Tue, 18 Nov 2025) EndedAt: 2025-11-18 22:47:48 -0500 (Tue, 18 Nov 2025) EllapsedTime: 738.0 seconds RetCode: 0 Status: OK CheckDir: CATALYST.Rcheck Warnings: 0