Package: CATALYST Version: 1.35.0 Command: /home/biocbuild/bbs-3.23-bioc/R/bin/R CMD build --keep-empty-dirs --no-resave-data CATALYST StartedAt: 2025-11-06 16:36:04 -0500 (Thu, 06 Nov 2025) EndedAt: 2025-11-06 16:39:02 -0500 (Thu, 06 Nov 2025) EllapsedTime: 177.1 seconds RetCode: 0 Status: OK PackageFile: CATALYST_1.35.0.tar.gz PackageFileSize: 11.29 MiB