Package: CARNIVAL Version: 2.21.0 Command: /home/biocbuild/bbs-3.23-bioc/R/bin/R CMD INSTALL CARNIVAL StartedAt: 2025-11-20 15:08:09 -0500 (Thu, 20 Nov 2025) EndedAt: 2025-11-20 15:08:17 -0500 (Thu, 20 Nov 2025) EllapsedTime: 7.2 seconds RetCode: 0 Status: OK