Package: CARNIVAL Version: 2.21.0 Command: /home/biocbuild/bbs-3.23-bioc/R/bin/R CMD build --keep-empty-dirs --no-resave-data CARNIVAL StartedAt: 2025-11-21 16:38:09 -0500 (Fri, 21 Nov 2025) EndedAt: 2025-11-21 16:38:18 -0500 (Fri, 21 Nov 2025) EllapsedTime: 9.0 seconds RetCode: 0 Status: OK PackageFile: CARNIVAL_2.21.0.tar.gz PackageFileSize: 2.047 MiB