Package: CARNIVAL Version: 2.21.0 Command: /Library/Frameworks/R.framework/Resources/bin/R CMD build --keep-empty-dirs --no-resave-data CARNIVAL StartedAt: 2025-11-21 16:22:00 -0500 (Fri, 21 Nov 2025) EndedAt: 2025-11-21 16:22:14 -0500 (Fri, 21 Nov 2025) EllapsedTime: 13.7 seconds RetCode: 0 Status: OK PackageFile: CARNIVAL_2.21.0.tar.gz PackageFileSize: 2.047 MiB